BEGIN:VCALENDAR
VERSION:2.0
METHOD:PUBLISH
X-WR-CALNAME;VALUE=TEXT:Agenda #1001
PRODID:-//Drupal iCal API//EN
BEGIN:VEVENT
SUMMARY: Réunion d'information collective organisée par l'AFT à Limoges
DTSTART: 20191017T120000
DTEND: 20191017T140000
DESCRIPTION: Réunion d'information collective organisée par l'AFT dans les locaux de la Mission Locale de LIMOGES - 31 avenue Baudin&nbsp;

Venez avec votre CV
END:VEVENT
END:VCALENDAR
