BEGIN:VCALENDAR
VERSION:2.0
METHOD:PUBLISH
X-WR-CALNAME;VALUE=TEXT:Agenda #1004
PRODID:-//Drupal iCal API//EN
BEGIN:VEVENT
SUMMARY: Forum post 3ème Brive
DTSTART: 20180908T070000
DTEND: 20180909T160000
DESCRIPTION: L'AFT vous accueillera sur son stand du FORUM DES METIERS qui aura lieu les :
JEUDI 8 ET VENDREDI 9 FEVRIER 2018 à l'Espace des 3 Provinces - 19100 BRIVE
END:VEVENT
BEGIN:VEVENT
SUMMARY: Forum post 3ème Brive
DTSTART: 20180908T070000
DTEND: 20180909T160000
DESCRIPTION: L'AFT vous accueillera sur son stand du FORUM DES METIERS qui aura lieu les :
JEUDI 8 ET VENDREDI 9 FEVRIER 2018 à l'Espace des 3 Provinces - 19100 BRIVE
END:VEVENT
BEGIN:VEVENT
SUMMARY: Forum post 3ème Brive
DTSTART: 20180908T070000
DTEND: 20180909T160000
DESCRIPTION: L'AFT vous accueillera sur son stand du FORUM DES METIERS qui aura lieu les :
JEUDI 8 ET VENDREDI 9 FEVRIER 2018 à l'Espace des 3 Provinces - 19100 BRIVE
END:VEVENT
END:VCALENDAR
