BEGIN:VCALENDAR
VERSION:2.0
METHOD:PUBLISH
X-WR-CALNAME;VALUE=TEXT:Agenda #1006
PRODID:-//Drupal iCal API//EN
BEGIN:VEVENT
SUMMARY: Forum des métiers du Haut Limousin
DTSTART: 20181014T070000
DTEND: 20181014T150000
DESCRIPTION: Les établissements du nord de la haute-vienne organisent un "forum des métiers des formations post 3èmes" ouvert aux jeunes et aux familles

Cette manifestation se déroulera le&nbsp;&nbsp;MARDI 14 FEVRIER 2017&nbsp;DE 9 H 00 A 17 H 00

Au THEATRE DU CLOITRE à BELLAC (87)
END:VEVENT
BEGIN:VEVENT
SUMMARY: Forum des métiers du Haut Limousin
DTSTART: 20181014T070000
DTEND: 20181014T150000
DESCRIPTION: Les établissements du nord de la haute-vienne organisent un "forum des métiers des formations post 3èmes" ouvert aux jeunes et aux familles

Cette manifestation se déroulera le&nbsp;&nbsp;MARDI 14 FEVRIER 2017&nbsp;DE 9 H 00 A 17 H 00

Au THEATRE DU CLOITRE à BELLAC (87)
END:VEVENT
BEGIN:VEVENT
SUMMARY: Forum des métiers du Haut Limousin
DTSTART: 20181014T070000
DTEND: 20181014T150000
DESCRIPTION: Les établissements du nord de la haute-vienne organisent un "forum des métiers des formations post 3èmes" ouvert aux jeunes et aux familles

Cette manifestation se déroulera le&nbsp;&nbsp;MARDI 14 FEVRIER 2017&nbsp;DE 9 H 00 A 17 H 00

Au THEATRE DU CLOITRE à BELLAC (87)
END:VEVENT
END:VCALENDAR
