BEGIN:VCALENDAR
VERSION:2.0
METHOD:PUBLISH
X-WR-CALNAME;VALUE=TEXT:Agenda #1007
PRODID:-//Drupal iCal API//EN
BEGIN:VEVENT
SUMMARY: Forum post 3ème Gueret
DTSTART: 20181008T070000
DTEND: 20181109T160000
DESCRIPTION: FORUM LEA GUERET les JEUDI 8 ET VENDREDI 9 FEVRIER 2018
END:VEVENT
BEGIN:VEVENT
SUMMARY: Forum post 3ème Gueret
DTSTART: 20181008T070000
DTEND: 20181109T160000
DESCRIPTION: FORUM LEA GUERET les JEUDI 8 ET VENDREDI 9 FEVRIER 2018
END:VEVENT
BEGIN:VEVENT
SUMMARY: Forum post 3ème Gueret
DTSTART: 20181008T070000
DTEND: 20181109T160000
DESCRIPTION: FORUM LEA GUERET les JEUDI 8 ET VENDREDI 9 FEVRIER 2018
END:VEVENT
END:VCALENDAR
