BEGIN:VCALENDAR
VERSION:2.0
METHOD:PUBLISH
X-WR-CALNAME;VALUE=TEXT:Agenda #1412
PRODID:-//Drupal iCal API//EN
BEGIN:VEVENT
SUMMARY: Permanence info métiers/formations à Montbéliard
DTSTART: 20190520T120000
DTEND: 20190520T120000
DESCRIPTION: Vous souhaitez obtenir des informations sur le secteur du Transport et de la Logistique, en savoir plus sur les métiers et les formations de la Branche, les entreprises qui recrutent ?
END:VEVENT
END:VCALENDAR
