BEGIN:VCALENDAR
VERSION:2.0
METHOD:PUBLISH
X-WR-CALNAME;VALUE=TEXT:Agenda #1413
PRODID:-//Drupal iCal API//EN
BEGIN:VEVENT
SUMMARY: Journée portes ouvertes aux transports Guyamier 33 ambes
DTSTART: 20190315T230000
DTEND: 20190315T230000
DESCRIPTION: Le samedi 16 mars 2019 se déroulera la journée recrutement de conducteurs routiers de marchandises.
END:VEVENT
END:VCALENDAR
