BEGIN:VCALENDAR
VERSION:2.0
METHOD:PUBLISH
X-WR-CALNAME;VALUE=TEXT:Agenda #1448
PRODID:-//Drupal iCal API//EN
BEGIN:VEVENT
SUMMARY: Journée régionale technique à Bègles
DTSTART: 20170208T230000
DTEND: 20170208T230000
DESCRIPTION: Le Développement Durable Dans Les Transports - Jeudi 9 Février 2017 Au Lycée Emile Combes à Bègles&nbsp;
END:VEVENT
BEGIN:VEVENT
SUMMARY: Journée régionale technique à Bègles
DTSTART: 20170208T230000
DTEND: 20170208T230000
DESCRIPTION: Le Développement Durable Dans Les Transports - Jeudi 9 Février 2017 Au Lycée Emile Combes à Bègles&nbsp;
END:VEVENT
END:VCALENDAR
