BEGIN:VCALENDAR
VERSION:2.0
METHOD:PUBLISH
X-WR-CALNAME;VALUE=TEXT:Agenda #1490
PRODID:-//Drupal iCal API//EN
BEGIN:VEVENT
SUMMARY: 14ème Forum des Métiers de Meyzieu Décines Charpieu
DTSTART: 20190327T080000
DTEND: 20190327T170000
DESCRIPTION: Venez nous rencontrer sur le stand transport-logistique et découvrir&nbsp;la grande variété des métiers proposés.
END:VEVENT
BEGIN:VEVENT
SUMMARY: 14ème Forum des Métiers de Meyzieu Décines Charpieu
DTSTART: 20190327T080000
DTEND: 20190327T170000
DESCRIPTION: Venez nous rencontrer sur le stand transport-logistique et découvrir&nbsp;la grande variété des métiers proposés.
END:VEVENT
END:VCALENDAR
