BEGIN:VCALENDAR
VERSION:2.0
METHOD:PUBLISH
X-WR-CALNAME;VALUE=TEXT:Agenda #1678
PRODID:-//Drupal iCal API//EN
BEGIN:VEVENT
SUMMARY: Découverte des métiers du déménagement à Castres
DTSTART: 20190514T120000
DTEND: 20190514T140000
DESCRIPTION: Partenaires de l'emploi et de l'orientation (Pôles emploi, Missions locales, organismes spécialisés en orientation professionnelle...), les Déménagements PASSEBOSC et l' AFT vous&nbsp;&nbsp;proposent&nbsp;une demi-journée exceptionnelle pour découvrir les métiers du déménagement à Castres le 14 mai prochain !
END:VEVENT
END:VCALENDAR
