BEGIN:VCALENDAR
VERSION:2.0
METHOD:PUBLISH
X-WR-CALNAME;VALUE=TEXT:Agenda #1724
PRODID:-//Drupal iCal API//EN
BEGIN:VEVENT
SUMMARY: Grande Opération #VersUnMétier à Mont de Marsan le 16 mai prochain
DTSTART: 20190516T080000
DTEND: 20190516T143000
DESCRIPTION: Une journée exceptionnelle pour découvrir les secteurs qui recrutent dont le #Transport #Logistique.

Venez&nbsp;rencontrer des entreprises, échanger avec les écoles et centres de formation et poser vos questions à nos chargées d'information et d'orientation
END:VEVENT
END:VCALENDAR
