BEGIN:VCALENDAR
VERSION:2.0
METHOD:PUBLISH
X-WR-CALNAME;VALUE=TEXT:Agenda #1729
PRODID:-//Drupal iCal API//EN
BEGIN:VEVENT
SUMMARY: Le secteur du Transport et de la Logistique recrute ! Venez participer à la réunion d'information métiers - SEFI TL Bretagne - à l'AFT Cesson-Sévigné  !
DTSTART: 20190516T220000
DTEND: 20190523T220000
DESCRIPTION: Organisation de réunion sur les métiers en Transport et en Logistique

Prochaines réunions le 17 mai et le 24 mai 2019 à 10h&nbsp;&nbsp;
END:VEVENT
END:VCALENDAR
