BEGIN:VCALENDAR
VERSION:2.0
METHOD:PUBLISH
X-WR-CALNAME;VALUE=TEXT:Agenda #1730
PRODID:-//Drupal iCal API//EN
BEGIN:VEVENT
SUMMARY: Salon T.A.F. à Saint Gaudens
DTSTART: 20191017T070000
DTEND: 20191017T143000
DESCRIPTION: Pôle emploi, la Mission Locale Haute Garonne et la Communauté de communes coeur et coteaux du Comminges organise le Jeudi 17 octobre 2019 de 9h à 16 h30 au Parc des Expositions du Comminges&nbsp;un&nbsp;salon&nbsp;tourné vers l'orientation et l'emploi avec des espaces métiers réunissant des lycées, des organismes de formations et des entreprises dont 4 incluant des stands Pôle emploi pour du recrutement ou des présentations métiers et compétences.&nbsp;
END:VEVENT
BEGIN:VEVENT
SUMMARY: Salon T.A.F. à Saint Gaudens
DTSTART: 20191017T070000
DTEND: 20191017T143000
DESCRIPTION: Pôle emploi, la Mission Locale Haute Garonne et la Communauté de communes coeur et coteaux du Comminges organise le Jeudi 17 octobre 2019 de 9h à 16 h30 au Parc des Expositions du Comminges&nbsp;un&nbsp;salon&nbsp;tourné vers l'orientation et l'emploi avec des espaces métiers réunissant des lycées, des organismes de formations et des entreprises dont 4 incluant des stands Pôle emploi pour du recrutement ou des présentations métiers et compétences.&nbsp;
END:VEVENT
BEGIN:VEVENT
SUMMARY: Salon T.A.F. à Saint Gaudens
DTSTART: 20191017T070000
DTEND: 20191017T143000
DESCRIPTION: Pôle emploi, la Mission Locale Haute Garonne et la Communauté de communes coeur et coteaux du Comminges organise le Jeudi 17 octobre 2019 de 9h à 16 h30 au Parc des Expositions du Comminges&nbsp;un&nbsp;salon&nbsp;tourné vers l'orientation et l'emploi avec des espaces métiers réunissant des lycées, des organismes de formations et des entreprises dont 4 incluant des stands Pôle emploi pour du recrutement ou des présentations métiers et compétences.&nbsp;
END:VEVENT
END:VCALENDAR
