BEGIN:VCALENDAR
VERSION:2.0
METHOD:PUBLISH
X-WR-CALNAME;VALUE=TEXT:Agenda #1734
PRODID:-//Drupal iCal API//EN
BEGIN:VEVENT
SUMMARY: #VersUnMétier au Pôle Emploi de la Cépière à Toulouse
DTSTART: 20190607T070000
DTEND: 20190607T100000
DESCRIPTION: Le 7 juin prochain une réunion d'information sur la présentation des métiers du&nbsp;Transport et de la Logistique sera organisée par Pôle Emploi La Cépière et l'AFT.

A l'issue de cette réunion, les participants pourront aborder tous les aspects des métiers du transport et de la logistique, en se glissant dans la peau d'un agent d'exploitation, d'un conducteur routier, d'un préparateur de commandes et d'un cariste en utilisant les lunettes de réalité virtuelle.&nbsp;
END:VEVENT
BEGIN:VEVENT
SUMMARY: #VersUnMétier au Pôle Emploi de la Cépière à Toulouse
DTSTART: 20190607T070000
DTEND: 20190607T100000
DESCRIPTION: Le 7 juin prochain une réunion d'information sur la présentation des métiers du&nbsp;Transport et de la Logistique sera organisée par Pôle Emploi La Cépière et l'AFT.

A l'issue de cette réunion, les participants pourront aborder tous les aspects des métiers du transport et de la logistique, en se glissant dans la peau d'un agent d'exploitation, d'un conducteur routier, d'un préparateur de commandes et d'un cariste en utilisant les lunettes de réalité virtuelle.&nbsp;
END:VEVENT
BEGIN:VEVENT
SUMMARY: #VersUnMétier au Pôle Emploi de la Cépière à Toulouse
DTSTART: 20190607T070000
DTEND: 20190607T100000
DESCRIPTION: Le 7 juin prochain une réunion d'information sur la présentation des métiers du&nbsp;Transport et de la Logistique sera organisée par Pôle Emploi La Cépière et l'AFT.

A l'issue de cette réunion, les participants pourront aborder tous les aspects des métiers du transport et de la logistique, en se glissant dans la peau d'un agent d'exploitation, d'un conducteur routier, d'un préparateur de commandes et d'un cariste en utilisant les lunettes de réalité virtuelle.&nbsp;
END:VEVENT
END:VCALENDAR
