BEGIN:VCALENDAR
VERSION:2.0
METHOD:PUBLISH
X-WR-CALNAME;VALUE=TEXT:Agenda #1743
PRODID:-//Drupal iCal API//EN
BEGIN:VEVENT
SUMMARY: Village des recruteurs de Bordeaux sur les métiers et l'emploi en transport et logistique
DTSTART: 20190613T070000
DTEND: 20190613T150000
DESCRIPTION: Venez rencontrer l'AFT, la Délégation Régionale en transport et logistique pour découvrir les métiers, les filières de formations (présence de centres de formations) et l'emploi dans ces secteurs.

&nbsp;
END:VEVENT
BEGIN:VEVENT
SUMMARY: Village des recruteurs de Bordeaux sur les métiers et l'emploi en transport et logistique
DTSTART: 20190613T070000
DTEND: 20190613T150000
DESCRIPTION: Venez rencontrer l'AFT, la Délégation Régionale en transport et logistique pour découvrir les métiers, les filières de formations (présence de centres de formations) et l'emploi dans ces secteurs.

&nbsp;
END:VEVENT
BEGIN:VEVENT
SUMMARY: Village des recruteurs de Bordeaux sur les métiers et l'emploi en transport et logistique
DTSTART: 20190613T070000
DTEND: 20190613T150000
DESCRIPTION: Venez rencontrer l'AFT, la Délégation Régionale en transport et logistique pour découvrir les métiers, les filières de formations (présence de centres de formations) et l'emploi dans ces secteurs.

&nbsp;
END:VEVENT
END:VCALENDAR
