BEGIN:VCALENDAR
VERSION:2.0
METHOD:PUBLISH
X-WR-CALNAME;VALUE=TEXT:Agenda #1763
PRODID:-//Drupal iCal API//EN
BEGIN:VEVENT
SUMMARY: Venez découvrir les métiers et les formations du Transport et de la Logistique à la Foire Expo 2019 à Nancy
DTSTART: 20190604T090000
DTEND: 20190610T150000
DESCRIPTION: Venez prendre la place d'un d'agent logistique, d'un exploitant, d'un conducteur routier en train de vérifier son camion ou bien encore venez&nbsp;piloter un trans-palette en tant que cariste.
END:VEVENT
BEGIN:VEVENT
SUMMARY: Venez découvrir les métiers et les formations du Transport et de la Logistique à la Foire Expo 2019 à Nancy
DTSTART: 20190604T090000
DTEND: 20190610T150000
DESCRIPTION: Venez prendre la place d'un d'agent logistique, d'un exploitant, d'un conducteur routier en train de vérifier son camion ou bien encore venez&nbsp;piloter un trans-palette en tant que cariste.
END:VEVENT
END:VCALENDAR
