BEGIN:VCALENDAR
VERSION:2.0
METHOD:PUBLISH
X-WR-CALNAME;VALUE=TEXT:Agenda #1770
PRODID:-//Drupal iCal API//EN
BEGIN:VEVENT
SUMMARY: Finale du Jeu-Concours "La Logistique ? Moi, je sais ce que c'est !"
DTSTART: 20190611T070000
DTEND: 20190611T150000
DESCRIPTION: Mardi 11 juin 2019, se déroulera la finale du jeu-concours "La logistique ? moi, je sais ce que c'est !" dans les locaux du lycée Jean Mermoz à Bourges.

&nbsp;
END:VEVENT
BEGIN:VEVENT
SUMMARY: Finale du Jeu-Concours "La Logistique ? Moi, je sais ce que c'est !"
DTSTART: 20190611T070000
DTEND: 20190611T150000
DESCRIPTION: Mardi 11 juin 2019, se déroulera la finale du jeu-concours "La logistique ? moi, je sais ce que c'est !" dans les locaux du lycée Jean Mermoz à Bourges.

&nbsp;
END:VEVENT
END:VCALENDAR
