BEGIN:VCALENDAR
VERSION:2.0
METHOD:PUBLISH
X-WR-CALNAME;VALUE=TEXT:Agenda #1772
PRODID:-//Drupal iCal API//EN
BEGIN:VEVENT
SUMMARY: Découvrir les métiers du transport et de la logistique #VersUnMétier en IIe-de-France
DTSTART: 20190605T220000
DTEND: 20190626T220000
DESCRIPTION: Dans le prolongement du dispositif TREMPLIN, la Délégation régionale AFT IIe-de-France se mobilise afin de présenter et valoriser les métiers du transport et de la logistique.&nbsp;
END:VEVENT
END:VCALENDAR
