BEGIN:VCALENDAR
VERSION:2.0
METHOD:PUBLISH
X-WR-CALNAME;VALUE=TEXT:Agenda #1773
PRODID:-//Drupal iCal API//EN
BEGIN:VEVENT
SUMMARY: Rendez-Vous Pour l'Emploi Transport de Voyageurs à Orléans
DTSTART: 20190522T080000
DTEND: 20190522T150000
DESCRIPTION: Orléans Métropole, la FNTV Centre-Val de Loire et&nbsp;la Maison de l'emploi du bassin d'Orléans organisent, en étroite&nbsp;collaboration avec leurs partenaires du secteur de l'emploi, de l'information/orientation et des entreprises locales, une journée dédiée à l'accompagnement des personnes en recherche d'emploi : le Rendez-vous pour l'Emploi.
END:VEVENT
END:VCALENDAR
