BEGIN:VCALENDAR
VERSION:2.0
METHOD:PUBLISH
X-WR-CALNAME;VALUE=TEXT:Agenda #1779
PRODID:-//Drupal iCal API//EN
BEGIN:VEVENT
SUMMARY: Salon Jeunes d'Avenirs - Formation Emploi
DTSTART: 20190917T070000
DTEND: 20190918T160000
DESCRIPTION: Vous voulez :


	Découvrir les métiers et les acteurs qui recrutent en transport et logistique
	Vous informer sur les formations, les aides pour y accéder, construire un CV..
	Echanger sur vos projets


Rendez-vous les 17 et 19 septembre sur le stand de l'AFT du salon Jeunes d'Avenirs à Paris&nbsp;
END:VEVENT
END:VCALENDAR
