BEGIN:VCALENDAR
VERSION:2.0
METHOD:PUBLISH
X-WR-CALNAME;VALUE=TEXT:Agenda #1781
PRODID:-//Drupal iCal API//EN
BEGIN:VEVENT
SUMMARY: Forum Alternance ESTER TECHNOPOLE - Limoges 2019
DTSTART: 20190523T070000
DTEND: 20190523T150000
DESCRIPTION: L'AFT vous accueille sur le Forum Alternance à Ester Technopole de 9 h à 17 h pour vous renseigner sur les métiers et les formations dans le transport et la logistique
END:VEVENT
END:VCALENDAR
