BEGIN:VCALENDAR
VERSION:2.0
METHOD:PUBLISH
X-WR-CALNAME;VALUE=TEXT:Agenda #2618
PRODID:-//Drupal iCal API//EN
BEGIN:VEVENT
SUMMARY: Matinée découverte des métiers du transport et de la logistique au Pôle Emploi de Orléans Loire
DTSTART: 20200323T080000
DTEND: 20200323T110000
DESCRIPTION: Sur la Route de votre avenir...

Vous êtes demandeur d'emploi, venez découvrir les métiers du transport et de la logistique, un monde d'Opportunité...

la matinée du 23 mars 2020 dans les locaux de Pôle Emploi Orléans Loire&nbsp;

Accueil de deux groupes :

&gt; Un premier groupe de 9 h 00 à 10 h 30

&gt; Un deuxième groupe de 10 h 30 à 12 h 00

Pour participer, contactez&nbsp;votre agence Pôle Emploi

&nbsp;
END:VEVENT
END:VCALENDAR
