BEGIN:VCALENDAR
VERSION:2.0
METHOD:PUBLISH
X-WR-CALNAME;VALUE=TEXT:Agenda #2619
PRODID:-//Drupal iCal API//EN
BEGIN:VEVENT
SUMMARY: Evénement reporté : Matinée découverte des métiers du transport et de la logistique à Saint-Jean de Braye
DTSTART: 20200326T080000
DTEND: 20200326T110000
DESCRIPTION: Sur la Route de votre Avenir...

Vous êtes demandeur d'emploi,&nbsp;venez découvrir les métiers du transport et de la logistique, un Monde d'Opportunité...
END:VEVENT
END:VCALENDAR
