BEGIN:VCALENDAR
VERSION:2.0
METHOD:PUBLISH
X-WR-CALNAME;VALUE=TEXT:Agenda #2621
PRODID:-//Drupal iCal API//EN
BEGIN:VEVENT
SUMMARY: Journée de la femme le 6 mars chez Transhorizon Autocars
DTSTART: 20200305T230000
DTEND: 20200305T230000
DESCRIPTION: Le 6 mars prochain à Berson, l'AFT s'associe à Transhorizon pour une Journée Portes Ouvertes spécifique "Journée internationale de la Femme". Durant cette journée, les femmes en recherche d'emploi ou de projet professionnel pourront échanger avec les conductrices de l'entreprise mais également découvrir d'autres facettes du métier.
END:VEVENT
BEGIN:VEVENT
SUMMARY: Journée de la femme le 6 mars chez Transhorizon Autocars
DTSTART: 20200305T230000
DTEND: 20200305T230000
DESCRIPTION: Le 6 mars prochain à Berson, l'AFT s'associe à Transhorizon pour une Journée Portes Ouvertes spécifique "Journée internationale de la Femme". Durant cette journée, les femmes en recherche d'emploi ou de projet professionnel pourront échanger avec les conductrices de l'entreprise mais également découvrir d'autres facettes du métier.
END:VEVENT
END:VCALENDAR
