BEGIN:VCALENDAR
VERSION:2.0
METHOD:PUBLISH
X-WR-CALNAME;VALUE=TEXT:Agenda #2625
PRODID:-//Drupal iCal API//EN
BEGIN:VEVENT
SUMMARY: Evénément reporté - "Un car pour le Transport et la Logistique" à Beaugency/Meung Sur Loire
DTSTART: 20200331T060000
DTEND: 20200331T150000
DESCRIPTION: "Un car pour le Transport et la Logistique" est un événement inédit organisé par l'AFT, le lycée professionnel Maréchal Leclerc de Saint-Jean de La Ruelle et le Lycée Privé Saint-Paul Bourdon Blanc d'Orléans, deux établissements qui proposent des filières en transport et logistique sur la Métropole d'Orléans.
END:VEVENT
END:VCALENDAR
