BEGIN:VCALENDAR
VERSION:2.0
METHOD:PUBLISH
X-WR-CALNAME;VALUE=TEXT:Agenda #2628
PRODID:-//Drupal iCal API//EN
BEGIN:VEVENT
SUMMARY: Visite de l'entreprise Junet à Amplepuis
DTSTART: 20200320T130000
DTEND: 20200320T130000
DESCRIPTION: Le 20 mars après-midi, des élèves du collège St Viateur à Amplepuis auront la chance de visiter les Transports Junet.
END:VEVENT
BEGIN:VEVENT
SUMMARY: Visite de l'entreprise Junet à Amplepuis
DTSTART: 20200320T130000
DTEND: 20200320T130000
DESCRIPTION: Le 20 mars après-midi, des élèves du collège St Viateur à Amplepuis auront la chance de visiter les Transports Junet.
END:VEVENT
BEGIN:VEVENT
SUMMARY: Visite de l'entreprise Junet à Amplepuis
DTSTART: 20200320T130000
DTEND: 20200320T130000
DESCRIPTION: Le 20 mars après-midi, des élèves du collège St Viateur à Amplepuis auront la chance de visiter les Transports Junet.
END:VEVENT
BEGIN:VEVENT
SUMMARY: Visite de l'entreprise Junet à Amplepuis
DTSTART: 20200320T130000
DTEND: 20200320T130000
DESCRIPTION: Le 20 mars après-midi, des élèves du collège St Viateur à Amplepuis auront la chance de visiter les Transports Junet.
END:VEVENT
END:VCALENDAR
