BEGIN:VCALENDAR
VERSION:2.0
METHOD:PUBLISH
X-WR-CALNAME;VALUE=TEXT:Agenda #2629
PRODID:-//Drupal iCal API//EN
BEGIN:VEVENT
SUMMARY: L'AFT au forum des Formations au Collége Henri Matisse de Linselles
DTSTART: 20200311T073000
DTEND: 20200311T110000
DESCRIPTION: Mercredi 11 Mars, le Collége Henri Matisse de Linselles invite l'AFT à participer à son forum des formations et des métiers.
END:VEVENT
BEGIN:VEVENT
SUMMARY: L'AFT au forum des Formations au Collége Henri Matisse de Linselles
DTSTART: 20200311T073000
DTEND: 20200311T110000
DESCRIPTION: Mercredi 11 Mars, le Collége Henri Matisse de Linselles invite l'AFT à participer à son forum des formations et des métiers.
END:VEVENT
BEGIN:VEVENT
SUMMARY: L'AFT au forum des Formations au Collége Henri Matisse de Linselles
DTSTART: 20200311T073000
DTEND: 20200311T110000
DESCRIPTION: Mercredi 11 Mars, le Collége Henri Matisse de Linselles invite l'AFT à participer à son forum des formations et des métiers.
END:VEVENT
END:VCALENDAR
