BEGIN:VCALENDAR
VERSION:2.0
METHOD:PUBLISH
X-WR-CALNAME;VALUE=TEXT:Agenda #2652
PRODID:-//Drupal iCal API//EN
BEGIN:VEVENT
SUMMARY: 21ème Forum de l'emploi à Ormes
DTSTART: 20200428T120000
DTEND: 20200428T153000
DESCRIPTION: Une occasion pour les demandeurs d'emploi de venir rencontrer les entreprises du territoire et notamment de la zone d'activité Pôle 45.

Un stand, animé par l'AFT, sera dédié à la découverte des métiers du transport et de la logistique, un secteur d'activité très développé au&nbsp;Pôle 45, Zone d'Activité&nbsp;d'Ormes/Saran.

&nbsp;
END:VEVENT
END:VCALENDAR
