BEGIN:VCALENDAR
VERSION:2.0
METHOD:PUBLISH
X-WR-CALNAME;VALUE=TEXT:Agenda #3009
PRODID:-//Drupal iCal API//EN
BEGIN:VEVENT
SUMMARY: Dialogue avec un "Pro"- Déclarante en Douane
DTSTART: 20220412T120000
DTEND: 20220412T120000
DESCRIPTION: Venez échanger en ligne avec une Déclarante en douane.

Le 12&nbsp;avril 2022, en visioconférence, une déclarante en douane vous racontera son histoire.&nbsp;&nbsp;

Inscrivez vous en ligne dès maintenant !
END:VEVENT
BEGIN:VEVENT
SUMMARY: Dialogue avec un "Pro"- Déclarante en Douane
DTSTART: 20220412T120000
DTEND: 20220412T120000
DESCRIPTION: Venez échanger en ligne avec une Déclarante en douane.

Le 12&nbsp;avril 2022, en visioconférence, une déclarante en douane vous racontera son histoire.&nbsp;&nbsp;

Inscrivez vous en ligne dès maintenant !
END:VEVENT
BEGIN:VEVENT
SUMMARY: Dialogue avec un "Pro"- Déclarante en Douane
DTSTART: 20220412T120000
DTEND: 20220412T120000
DESCRIPTION: Venez échanger en ligne avec une Déclarante en douane.

Le 12&nbsp;avril 2022, en visioconférence, une déclarante en douane vous racontera son histoire.&nbsp;&nbsp;

Inscrivez vous en ligne dès maintenant !
END:VEVENT
END:VCALENDAR
