BEGIN:VCALENDAR
VERSION:2.0
METHOD:PUBLISH
X-WR-CALNAME;VALUE=TEXT:Agenda #3219
PRODID:-//Drupal iCal API//EN
BEGIN:VEVENT
SUMMARY: Toulouse : Définir son projet professionnel avec le C.P.P.U. et l'AFT
DTSTART: 20250124T080000
DTEND: 20250124T080000
DESCRIPTION: L' AFT Occitanie interviendra le vendredi 24 janvier&nbsp;de 9h à 12&nbsp;h au CPPU de St jean afin d'aider les personnes en recherche d'emploi à définir un&nbsp;projet&nbsp;professionnel en cohérence avec les réalités du marché du travail&nbsp;et pourquoi pas le Transport et la logistique&nbsp;
END:VEVENT
BEGIN:VEVENT
SUMMARY: Toulouse : Définir son projet professionnel avec le C.P.P.U. et l'AFT
DTSTART: 20250124T080000
DTEND: 20250124T080000
DESCRIPTION: L' AFT Occitanie interviendra le vendredi 24 janvier&nbsp;de 9h à 12&nbsp;h au CPPU de St jean afin d'aider les personnes en recherche d'emploi à définir un&nbsp;projet&nbsp;professionnel en cohérence avec les réalités du marché du travail&nbsp;et pourquoi pas le Transport et la logistique&nbsp;
END:VEVENT
BEGIN:VEVENT
SUMMARY: Toulouse : Définir son projet professionnel avec le C.P.P.U. et l'AFT
DTSTART: 20250124T080000
DTEND: 20250124T080000
DESCRIPTION: L' AFT Occitanie interviendra le vendredi 24 janvier&nbsp;de 9h à 12&nbsp;h au CPPU de St jean afin d'aider les personnes en recherche d'emploi à définir un&nbsp;projet&nbsp;professionnel en cohérence avec les réalités du marché du travail&nbsp;et pourquoi pas le Transport et la logistique&nbsp;
END:VEVENT
BEGIN:VEVENT
SUMMARY: Toulouse : Définir son projet professionnel avec le C.P.P.U. et l'AFT
DTSTART: 20250124T080000
DTEND: 20250124T080000
DESCRIPTION: L' AFT Occitanie interviendra le vendredi 24 janvier&nbsp;de 9h à 12&nbsp;h au CPPU de St jean afin d'aider les personnes en recherche d'emploi à définir un&nbsp;projet&nbsp;professionnel en cohérence avec les réalités du marché du travail&nbsp;et pourquoi pas le Transport et la logistique&nbsp;
END:VEVENT
END:VCALENDAR
