BEGIN:VCALENDAR
VERSION:2.0
METHOD:PUBLISH
X-WR-CALNAME;VALUE=TEXT:Agenda #3237
PRODID:-//Drupal iCal API//EN
BEGIN:VEVENT
SUMMARY: Occitanie :  Présentation du rapport OPTL 2021
DTSTART: 20220208T130000
DTEND: 20220208T150000
DESCRIPTION: La présentation publique du Rapport OPTL 2021&nbsp; aura lieu le Mardi 8 février&nbsp;de 14h à 16h dans les locaux de l'AFT Montpellier en présentiel et en distanciel.&nbsp;

.

&nbsp;
END:VEVENT
BEGIN:VEVENT
SUMMARY: Occitanie :  Présentation du rapport OPTL 2021
DTSTART: 20220208T130000
DTEND: 20220208T150000
DESCRIPTION: La présentation publique du Rapport OPTL 2021&nbsp; aura lieu le Mardi 8 février&nbsp;de 14h à 16h dans les locaux de l'AFT Montpellier en présentiel et en distanciel.&nbsp;

.

&nbsp;
END:VEVENT
BEGIN:VEVENT
SUMMARY: Occitanie :  Présentation du rapport OPTL 2021
DTSTART: 20220208T130000
DTEND: 20220208T150000
DESCRIPTION: La présentation publique du Rapport OPTL 2021&nbsp; aura lieu le Mardi 8 février&nbsp;de 14h à 16h dans les locaux de l'AFT Montpellier en présentiel et en distanciel.&nbsp;

.

&nbsp;
END:VEVENT
END:VCALENDAR
