BEGIN:VCALENDAR
VERSION:2.0
METHOD:PUBLISH
X-WR-CALNAME;VALUE=TEXT:Agenda #3373
PRODID:-//Drupal iCal API//EN
BEGIN:VEVENT
SUMMARY: Ales : Présentation des métiers aux élèves de 1ere BAC PRO O.T.M. (Organisation de Transport de Marchandises)
DTSTART: 20211012T110000
DTEND: 20211012T100000
DESCRIPTION: Présentation des métiers du Transport et de la Logistique à tous les élèves de 1ere &nbsp;BAC PRO O.T.M. (Organisation de Transports de Marchandises) du Lycée Jacques Prévert à Ales&nbsp;&nbsp;le Mardi 12 octobre de 13h à 17h.
END:VEVENT
BEGIN:VEVENT
SUMMARY: Ales : Présentation des métiers aux élèves de 1ere BAC PRO O.T.M. (Organisation de Transport de Marchandises)
DTSTART: 20211012T110000
DTEND: 20211012T100000
DESCRIPTION: Présentation des métiers du Transport et de la Logistique à tous les élèves de 1ere &nbsp;BAC PRO O.T.M. (Organisation de Transports de Marchandises) du Lycée Jacques Prévert à Ales&nbsp;&nbsp;le Mardi 12 octobre de 13h à 17h.
END:VEVENT
BEGIN:VEVENT
SUMMARY: Ales : Présentation des métiers aux élèves de 1ere BAC PRO O.T.M. (Organisation de Transport de Marchandises)
DTSTART: 20211012T110000
DTEND: 20211012T100000
DESCRIPTION: Présentation des métiers du Transport et de la Logistique à tous les élèves de 1ere &nbsp;BAC PRO O.T.M. (Organisation de Transports de Marchandises) du Lycée Jacques Prévert à Ales&nbsp;&nbsp;le Mardi 12 octobre de 13h à 17h.
END:VEVENT
BEGIN:VEVENT
SUMMARY: Ales : Présentation des métiers aux élèves de 1ere BAC PRO O.T.M. (Organisation de Transport de Marchandises)
DTSTART: 20211012T110000
DTEND: 20211012T100000
DESCRIPTION: Présentation des métiers du Transport et de la Logistique à tous les élèves de 1ere &nbsp;BAC PRO O.T.M. (Organisation de Transports de Marchandises) du Lycée Jacques Prévert à Ales&nbsp;&nbsp;le Mardi 12 octobre de 13h à 17h.
END:VEVENT
END:VCALENDAR
