BEGIN:VCALENDAR
VERSION:2.0
METHOD:PUBLISH
X-WR-CALNAME;VALUE=TEXT:Agenda #3417
PRODID:-//Drupal iCal API//EN
BEGIN:VEVENT
SUMMARY: Montpellier : Action mixité au Pole Emploi
DTSTART: 20230308T120000
DTEND: 20230307T230000
DESCRIPTION: Le Pôle Emploi de Montpellier (mas de grille)&nbsp;&nbsp;organise le 8 mars prochain de 13h à 17h une rencontre avec l'AFT Occitanie, la FNTR et&nbsp; la FNTV.

&nbsp;

Venez donc découvrir les métiers du transport et de la logistique&nbsp;&nbsp;

Inscription obligatoire auprès de votre conseiller Pôle Emploi

&nbsp;
END:VEVENT
BEGIN:VEVENT
SUMMARY: Montpellier : Action mixité au Pole Emploi
DTSTART: 20230308T120000
DTEND: 20230307T230000
DESCRIPTION: Le Pôle Emploi de Montpellier (mas de grille)&nbsp;&nbsp;organise le 8 mars prochain de 13h à 17h une rencontre avec l'AFT Occitanie, la FNTR et&nbsp; la FNTV.

&nbsp;

Venez donc découvrir les métiers du transport et de la logistique&nbsp;&nbsp;

Inscription obligatoire auprès de votre conseiller Pôle Emploi

&nbsp;
END:VEVENT
BEGIN:VEVENT
SUMMARY: Montpellier : Action mixité au Pole Emploi
DTSTART: 20230308T120000
DTEND: 20230307T230000
DESCRIPTION: Le Pôle Emploi de Montpellier (mas de grille)&nbsp;&nbsp;organise le 8 mars prochain de 13h à 17h une rencontre avec l'AFT Occitanie, la FNTR et&nbsp; la FNTV.

&nbsp;

Venez donc découvrir les métiers du transport et de la logistique&nbsp;&nbsp;

Inscription obligatoire auprès de votre conseiller Pôle Emploi

&nbsp;
END:VEVENT
END:VCALENDAR
