BEGIN:VCALENDAR
VERSION:2.0
METHOD:PUBLISH
X-WR-CALNAME;VALUE=TEXT:Agenda #3451
PRODID:-//Drupal iCal API//EN
BEGIN:VEVENT
SUMMARY: Occitanie : Dialogue avec un "Pro" Conducteur Voyageurs
DTSTART: 20240207T130000
DTEND: 20240207T140000
DESCRIPTION: Venez échanger&nbsp;en ligne&nbsp;avec un-e salarié-e Conducteur-trice Voyageurs de CEVENNES VOYAGES

Inscrivez vous en ligne dès maintenant !
END:VEVENT
BEGIN:VEVENT
SUMMARY: Occitanie : Dialogue avec un "Pro" Conducteur Voyageurs
DTSTART: 20240207T130000
DTEND: 20240207T140000
DESCRIPTION: Venez échanger&nbsp;en ligne&nbsp;avec un-e salarié-e Conducteur-trice Voyageurs de CEVENNES VOYAGES

Inscrivez vous en ligne dès maintenant !
END:VEVENT
BEGIN:VEVENT
SUMMARY: Occitanie : Dialogue avec un "Pro" Conducteur Voyageurs
DTSTART: 20240207T130000
DTEND: 20240207T140000
DESCRIPTION: Venez échanger&nbsp;en ligne&nbsp;avec un-e salarié-e Conducteur-trice Voyageurs de CEVENNES VOYAGES

Inscrivez vous en ligne dès maintenant !
END:VEVENT
BEGIN:VEVENT
SUMMARY: Occitanie : Dialogue avec un "Pro" Conducteur Voyageurs
DTSTART: 20240207T130000
DTEND: 20240207T140000
DESCRIPTION: Venez échanger&nbsp;en ligne&nbsp;avec un-e salarié-e Conducteur-trice Voyageurs de CEVENNES VOYAGES

Inscrivez vous en ligne dès maintenant !
END:VEVENT
END:VCALENDAR
