BEGIN:VCALENDAR
VERSION:2.0
METHOD:PUBLISH
X-WR-CALNAME;VALUE=TEXT:Agenda #3464
PRODID:-//Drupal iCal API//EN
BEGIN:VEVENT
SUMMARY: Montpellier : Focus métiers Transport Logistique
DTSTART: 20230920T120000
DTEND: 20230920T120000
DESCRIPTION: L'AFT Transport &amp; Logistique Occitanie vous propose un Focus métiers Transport Logistique le Mercredi 20 septembre&nbsp; à 14h à la Maison de l'Orientation de Montpellier avec la participation des TRANSPORTS CHILA et de&nbsp;U LOGISTIQUE&nbsp;

&nbsp;Alors n'attendez pas !&nbsp; Inscrivez-vous.&nbsp;

&nbsp;
END:VEVENT
BEGIN:VEVENT
SUMMARY: Montpellier : Focus métiers Transport Logistique
DTSTART: 20230920T120000
DTEND: 20230920T120000
DESCRIPTION: L'AFT Transport &amp; Logistique Occitanie vous propose un Focus métiers Transport Logistique le Mercredi 20 septembre&nbsp; à 14h à la Maison de l'Orientation de Montpellier avec la participation des TRANSPORTS CHILA et de&nbsp;U LOGISTIQUE&nbsp;

&nbsp;Alors n'attendez pas !&nbsp; Inscrivez-vous.&nbsp;

&nbsp;
END:VEVENT
BEGIN:VEVENT
SUMMARY: Montpellier : Focus métiers Transport Logistique
DTSTART: 20230920T120000
DTEND: 20230920T120000
DESCRIPTION: L'AFT Transport &amp; Logistique Occitanie vous propose un Focus métiers Transport Logistique le Mercredi 20 septembre&nbsp; à 14h à la Maison de l'Orientation de Montpellier avec la participation des TRANSPORTS CHILA et de&nbsp;U LOGISTIQUE&nbsp;

&nbsp;Alors n'attendez pas !&nbsp; Inscrivez-vous.&nbsp;

&nbsp;
END:VEVENT
BEGIN:VEVENT
SUMMARY: Montpellier : Focus métiers Transport Logistique
DTSTART: 20230920T120000
DTEND: 20230920T120000
DESCRIPTION: L'AFT Transport &amp; Logistique Occitanie vous propose un Focus métiers Transport Logistique le Mercredi 20 septembre&nbsp; à 14h à la Maison de l'Orientation de Montpellier avec la participation des TRANSPORTS CHILA et de&nbsp;U LOGISTIQUE&nbsp;

&nbsp;Alors n'attendez pas !&nbsp; Inscrivez-vous.&nbsp;

&nbsp;
END:VEVENT
END:VCALENDAR
