BEGIN:VCALENDAR
VERSION:2.0
METHOD:PUBLISH
X-WR-CALNAME;VALUE=TEXT:Agenda #3466
PRODID:-//Drupal iCal API//EN
BEGIN:VEVENT
SUMMARY: Tarbes : Zoom Métiers Marchandises/Voyageurs et Sanitaire
DTSTART: 20221213T093000
DTEND: 20221213T093000
DESCRIPTION: Venez nous rejoindre le 13 décembre&nbsp;2022 à 10h30&nbsp;pour participer au&nbsp;zoom métiers.&nbsp;&nbsp;Alors n'attendez pas !

&nbsp;
END:VEVENT
BEGIN:VEVENT
SUMMARY: Tarbes : Zoom Métiers Marchandises/Voyageurs et Sanitaire
DTSTART: 20221213T093000
DTEND: 20221213T093000
DESCRIPTION: Venez nous rejoindre le 13 décembre&nbsp;2022 à 10h30&nbsp;pour participer au&nbsp;zoom métiers.&nbsp;&nbsp;Alors n'attendez pas !

&nbsp;
END:VEVENT
BEGIN:VEVENT
SUMMARY: Tarbes : Zoom Métiers Marchandises/Voyageurs et Sanitaire
DTSTART: 20221213T093000
DTEND: 20221213T093000
DESCRIPTION: Venez nous rejoindre le 13 décembre&nbsp;2022 à 10h30&nbsp;pour participer au&nbsp;zoom métiers.&nbsp;&nbsp;Alors n'attendez pas !

&nbsp;
END:VEVENT
BEGIN:VEVENT
SUMMARY: Tarbes : Zoom Métiers Marchandises/Voyageurs et Sanitaire
DTSTART: 20221213T093000
DTEND: 20221213T093000
DESCRIPTION: Venez nous rejoindre le 13 décembre&nbsp;2022 à 10h30&nbsp;pour participer au&nbsp;zoom métiers.&nbsp;&nbsp;Alors n'attendez pas !

&nbsp;
END:VEVENT
END:VCALENDAR
