BEGIN:VCALENDAR
VERSION:2.0
METHOD:PUBLISH
X-WR-CALNAME;VALUE=TEXT:Agenda #3812
PRODID:-//Drupal iCal API//EN
BEGIN:VEVENT
SUMMARY: Aude/Ariège : Présentation du secteur Transport Logistique aux Directeurs des Pôles Emploi
DTSTART: 20210922T090000
DTEND: 20210922T090000
DESCRIPTION: Une visio conférencre en direction de tous les Directeurs des agences Pôle Emploi de l'Aude/Ariège sera organisée le Mercredi 22 septembre de 11h à 12h&nbsp;
END:VEVENT
END:VCALENDAR
