BEGIN:VCALENDAR
VERSION:2.0
METHOD:PUBLISH
X-WR-CALNAME;VALUE=TEXT:Agenda #3813
PRODID:-//Drupal iCal API//EN
BEGIN:VEVENT
SUMMARY: Aude/Ariège : Les directeurs d'Agence Pôle emploi en entreprise
DTSTART: 20210923T120000
DTEND: 20210923T120000
DESCRIPTION: Réunion le 23 septembre de 14h à 17h de tous les Directeurs d'Agence Pôle Emploi de l'Aude/Ariège délocalisée chez les Transports RUIZ à Castelnaudary avec la présence des Transports EYCHENNE&nbsp;afin de sensibiliser tous les conseillers à ce secteur en tension
END:VEVENT
BEGIN:VEVENT
SUMMARY: Aude/Ariège : Les directeurs d'Agence Pôle emploi en entreprise
DTSTART: 20210923T120000
DTEND: 20210923T120000
DESCRIPTION: Réunion le 23 septembre de 14h à 17h de tous les Directeurs d'Agence Pôle Emploi de l'Aude/Ariège délocalisée chez les Transports RUIZ à Castelnaudary avec la présence des Transports EYCHENNE&nbsp;afin de sensibiliser tous les conseillers à ce secteur en tension
END:VEVENT
BEGIN:VEVENT
SUMMARY: Aude/Ariège : Les directeurs d'Agence Pôle emploi en entreprise
DTSTART: 20210923T120000
DTEND: 20210923T120000
DESCRIPTION: Réunion le 23 septembre de 14h à 17h de tous les Directeurs d'Agence Pôle Emploi de l'Aude/Ariège délocalisée chez les Transports RUIZ à Castelnaudary avec la présence des Transports EYCHENNE&nbsp;afin de sensibiliser tous les conseillers à ce secteur en tension
END:VEVENT
END:VCALENDAR
