BEGIN:VCALENDAR
VERSION:2.0
METHOD:PUBLISH
X-WR-CALNAME;VALUE=TEXT:Agenda #3814
PRODID:-//Drupal iCal API//EN
BEGIN:VEVENT
SUMMARY: Aude/Ariège : Présentation des métiers du Transport et de la Logistique à tous les conseillers des Agences Pôle Emploi
DTSTART: 20211001T080000
DTEND: 20211001T080000
DESCRIPTION: Présentation des métiers et des formations du Transport et de la Logistique à tous les conseillers des agences Pôle Emploi de l'Aude/Ariège le vendredi 1er octobre de 10h à 11h30 en visio conférence.
END:VEVENT
BEGIN:VEVENT
SUMMARY: Aude/Ariège : Présentation des métiers du Transport et de la Logistique à tous les conseillers des Agences Pôle Emploi
DTSTART: 20211001T080000
DTEND: 20211001T080000
DESCRIPTION: Présentation des métiers et des formations du Transport et de la Logistique à tous les conseillers des agences Pôle Emploi de l'Aude/Ariège le vendredi 1er octobre de 10h à 11h30 en visio conférence.
END:VEVENT
BEGIN:VEVENT
SUMMARY: Aude/Ariège : Présentation des métiers du Transport et de la Logistique à tous les conseillers des Agences Pôle Emploi
DTSTART: 20211001T080000
DTEND: 20211001T080000
DESCRIPTION: Présentation des métiers et des formations du Transport et de la Logistique à tous les conseillers des agences Pôle Emploi de l'Aude/Ariège le vendredi 1er octobre de 10h à 11h30 en visio conférence.
END:VEVENT
END:VCALENDAR
