BEGIN:VCALENDAR
VERSION:2.0
METHOD:PUBLISH
X-WR-CALNAME;VALUE=TEXT:Agenda #3817
PRODID:-//Drupal iCal API//EN
BEGIN:VEVENT
SUMMARY: Chef.fe d'équipe en logistique - FM Logistic Centre-Val de Loire
DTSTART: 20211125T140000
DTEND: 20211125T150000
DESCRIPTION: Vous recherchez des informations sur le secteur&nbsp;de la logistique&nbsp;?

Venez échanger avec une professionnelle du secteur&nbsp;!

&nbsp;
END:VEVENT
BEGIN:VEVENT
SUMMARY: Chef.fe d'équipe en logistique - FM Logistic Centre-Val de Loire
DTSTART: 20211125T140000
DTEND: 20211125T150000
DESCRIPTION: Vous recherchez des informations sur le secteur&nbsp;de la logistique&nbsp;?

Venez échanger avec une professionnelle du secteur&nbsp;!

&nbsp;
END:VEVENT
END:VCALENDAR
