BEGIN:VCALENDAR
VERSION:2.0
METHOD:PUBLISH
X-WR-CALNAME;VALUE=TEXT:Agenda #3818
PRODID:-//Drupal iCal API//EN
BEGIN:VEVENT
SUMMARY: Paris pour l'Emploi 2021 - 2 salons en 1 - Présentiel et Distanciel
DTSTART: 20211007T080000
DTEND: 20211008T160000
DESCRIPTION: Vous êtes diplômés ou non, avec ou sans expérience, en recherche d'un emploi, d'un apprentissage, d'une orientation ?

Rendez-vous au Pôle Transport et Logistique, l'AFT vous y attendra sur le stand A 115&nbsp;pour échanger et vous informer sur les métiers et les formations dans le transport et la logistique. Le groupe MAUFFREY sera également présent et il recrute&nbsp;!
END:VEVENT
END:VCALENDAR
