BEGIN:VCALENDAR
VERSION:2.0
METHOD:PUBLISH
X-WR-CALNAME;VALUE=TEXT:Agenda #3821
PRODID:-//Drupal iCal API//EN
BEGIN:VEVENT
SUMMARY: Chef.fe d'équipe sur inventaire - RGIS Centre-Val de Loire
DTSTART: 20211213T130000
DTEND: 20211213T140000
DESCRIPTION: Vous recherchez des informations sur le secteur&nbsp;de la logistique&nbsp;?

Venez échanger avec un&nbsp;professionnel du secteur&nbsp;!

&nbsp;
END:VEVENT
BEGIN:VEVENT
SUMMARY: Chef.fe d'équipe sur inventaire - RGIS Centre-Val de Loire
DTSTART: 20211213T130000
DTEND: 20211213T140000
DESCRIPTION: Vous recherchez des informations sur le secteur&nbsp;de la logistique&nbsp;?

Venez échanger avec un&nbsp;professionnel du secteur&nbsp;!

&nbsp;
END:VEVENT
END:VCALENDAR
