BEGIN:VCALENDAR
VERSION:2.0
METHOD:PUBLISH
X-WR-CALNAME;VALUE=TEXT:Agenda #3822
PRODID:-//Drupal iCal API//EN
BEGIN:VEVENT
SUMMARY: Focus métiers transport sanitaire en Centre-Val de Loire
DTSTART: 20220301T090000
DTEND: 20220301T100000
DESCRIPTION: Vous recherchez des informations sur le secteur&nbsp;du transport et la logistique&nbsp;?

Félicitations ce sont des&nbsp;secteurs qui recrutent !

Découvrez les métiers du transport sanitaire en participant à notre conférence en ligne !

&nbsp;
END:VEVENT
BEGIN:VEVENT
SUMMARY: Focus métiers transport sanitaire en Centre-Val de Loire
DTSTART: 20220301T090000
DTEND: 20220301T100000
DESCRIPTION: Vous recherchez des informations sur le secteur&nbsp;du transport et la logistique&nbsp;?

Félicitations ce sont des&nbsp;secteurs qui recrutent !

Découvrez les métiers du transport sanitaire en participant à notre conférence en ligne !

&nbsp;
END:VEVENT
END:VCALENDAR
