BEGIN:VCALENDAR
VERSION:2.0
METHOD:PUBLISH
X-WR-CALNAME;VALUE=TEXT:Agenda #3823
PRODID:-//Drupal iCal API//EN
BEGIN:VEVENT
SUMMARY: Semaine de l'emploi Paris 11ème arrondissement
DTSTART: 20210922T080000
DTEND: 20210922T120000
DESCRIPTION: Virginie Le Roux de la Délégation francilienne de l'AFT&nbsp;vous attend au forum emploi organisé par la mairie du 11ème arrondissement sur l'espace "Les métiers qui recrutent".&nbsp;
END:VEVENT
END:VCALENDAR
