BEGIN:VCALENDAR
VERSION:2.0
METHOD:PUBLISH
X-WR-CALNAME;VALUE=TEXT:Agenda #3827
PRODID:-//Drupal iCal API//EN
BEGIN:VEVENT
SUMMARY: Klub Extraordinaire à Vendôme
DTSTART: 20211021T070000
DTEND: 20211021T153000
DESCRIPTION: Le Klub Extraordinaire dispositif mobile innovant d'aide à l'orientation professionnelle, créé par le Conseil Régional Centre-Val de Loire&nbsp;s'installe dans la ville de Vendôme les 19-20 et 21 octobre 2021 !

L'AFT sera présente le Jeudi 21 Octobre de 9h à 17h15 au centre culturel de Vendôme pour vous informer sur le transport et la logistique.
END:VEVENT
END:VCALENDAR
