BEGIN:VCALENDAR
VERSION:2.0
METHOD:PUBLISH
X-WR-CALNAME;VALUE=TEXT:Agenda #3828
PRODID:-//Drupal iCal API//EN
BEGIN:VEVENT
SUMMARY: Le simulateur de conduite AFT sur le salon IFTIM-TOP RESA durant une semaine
DTSTART: 20211005T080000
DTEND: 20211008T140000
DESCRIPTION: Venez nombreux sur le salon IFTM TOP RESA, salon multicibles du tourisme et des voyages !&nbsp;

Vous pourrez tester la conduite en autocar grâce au simulateur AFT !

&nbsp;
END:VEVENT
BEGIN:VEVENT
SUMMARY: Le simulateur de conduite AFT sur le salon IFTIM-TOP RESA durant une semaine
DTSTART: 20211005T080000
DTEND: 20211008T140000
DESCRIPTION: Venez nombreux sur le salon IFTM TOP RESA, salon multicibles du tourisme et des voyages !&nbsp;

Vous pourrez tester la conduite en autocar grâce au simulateur AFT !

&nbsp;
END:VEVENT
END:VCALENDAR
