BEGIN:VCALENDAR
VERSION:2.0
METHOD:PUBLISH
X-WR-CALNAME;VALUE=TEXT:Agenda #3829
PRODID:-//Drupal iCal API//EN
BEGIN:VEVENT
SUMMARY: Klub Extraordinaire à Contres
DTSTART: 20211207T080000
DTEND: 20211207T163000
DESCRIPTION: Le Klub Extraordinaire dispositif mobile innovant d'aide à l'orientation professionnelle, créé par le Conseil Régional Centre-Val de Loire&nbsp;s'installe dans la ville du Controis en Sologne&nbsp;les 07 et 08 décembre&nbsp;2021 !

L'AFT sera présente le Mardi 07 Décembre&nbsp;de 9h à 17h30&nbsp;sur le village des métiers de l'espace jeunes de Contres pour vous informer sur le transport et la logistique.
END:VEVENT
END:VCALENDAR
