BEGIN:VCALENDAR
VERSION:2.0
METHOD:PUBLISH
X-WR-CALNAME;VALUE=TEXT:Agenda #3832
PRODID:-//Drupal iCal API//EN
BEGIN:VEVENT
SUMMARY: Pôle Emploi avec l’AFT propose un salon en ligne de l'emploi et du recrutement en IDF
DTSTART: 20211013T070000
DTEND: 20211026T160000
DESCRIPTION: Vous êtes en recherche d’emploi, en reconversion, de formation, le monde du transport et de la logistique vous intéresse ?

Ce salon en ligne porté par Pôle Emploi est fait pour vous !

Connectez-vous&nbsp;du 13 au 26 octobre 2021 des entreprises recrutent&nbsp;!

Petit Forestier,&nbsp;&nbsp;Berto,&nbsp;Savac, Prevote Ambulance Inter, Bolloré Logistics, Groupe Barré mais aussi Manpower, Lycée Arthur Rimbaud de Garges les Gonesse.

Vous pourrez passez des entretiens, ils vous attendent&nbsp;!

&nbsp;
END:VEVENT
END:VCALENDAR
