BEGIN:VCALENDAR
VERSION:2.0
METHOD:PUBLISH
X-WR-CALNAME;VALUE=TEXT:Agenda #3837
PRODID:-//Drupal iCal API//EN
BEGIN:VEVENT
SUMMARY: Webinar logistique &amp; transport en IDF : en route pour l'emploi et la formation !
DTSTART: 20211006T080000
DTEND: 20211006T100000
DESCRIPTION: La Délégation régionale&nbsp;Ile-de-France AFT participe à la conférence en ligne «&nbsp;Logistique &amp; transport : en route pour l’emploi et la formation&nbsp;» !

Initiée&nbsp;par la Région Île-de-France et organisée par la Fondation Mozaïk, dans le cadre du Meet'Up IDF Emploi Formation, ce webinar se tiendra le 6 octobre prochain.

Inscrivez-vous dès maintenant&nbsp;!

➡️ Table ronde n°1 : Une autoroute pour l’emploi des jeunes !
➡️ Table ronde n°2 : Permis B, Caces… : tout connaître sur les formations
➡️ Table ronde n°3 : Ils nous inspirent !
END:VEVENT
END:VCALENDAR
