BEGIN:VCALENDAR
VERSION:2.0
METHOD:PUBLISH
X-WR-CALNAME;VALUE=TEXT:Agenda #3840
PRODID:-//Drupal iCal API//EN
BEGIN:VEVENT
SUMMARY: Salon Top Emploi
DTSTART: 20210930T070000
DTEND: 20210930T150000
DESCRIPTION: En 2021, Top emploi s’adapte et propose deux salons en un&nbsp;!!!

Le salon des jeunes 18-25 ans revient cette année et vous propose deux formats :

-&nbsp;&nbsp;&nbsp;&nbsp;&nbsp;&nbsp;&nbsp;&nbsp;&nbsp;&nbsp;En présentiel le jeudi 30 septembre de 10h à 17h

-&nbsp;&nbsp;&nbsp;&nbsp;&nbsp;&nbsp;&nbsp;&nbsp;&nbsp;&nbsp;En ligne grâce à notre site internet et/ou un QR Code les 1,2 et 3 octobre 2021

Le salon Top Emploi est spécialement dédié aux jeunes de 16 à 25 ans. Il a pour but de mettre en relation les jeunes en recherche d’emploi avec les entreprises qui recrutent dans le bassin Chalonnais.

&nbsp;
END:VEVENT
BEGIN:VEVENT
SUMMARY: Salon Top Emploi
DTSTART: 20210930T070000
DTEND: 20210930T150000
DESCRIPTION: En 2021, Top emploi s’adapte et propose deux salons en un&nbsp;!!!

Le salon des jeunes 18-25 ans revient cette année et vous propose deux formats :

-&nbsp;&nbsp;&nbsp;&nbsp;&nbsp;&nbsp;&nbsp;&nbsp;&nbsp;&nbsp;En présentiel le jeudi 30 septembre de 10h à 17h

-&nbsp;&nbsp;&nbsp;&nbsp;&nbsp;&nbsp;&nbsp;&nbsp;&nbsp;&nbsp;En ligne grâce à notre site internet et/ou un QR Code les 1,2 et 3 octobre 2021

Le salon Top Emploi est spécialement dédié aux jeunes de 16 à 25 ans. Il a pour but de mettre en relation les jeunes en recherche d’emploi avec les entreprises qui recrutent dans le bassin Chalonnais.

&nbsp;
END:VEVENT
BEGIN:VEVENT
SUMMARY: Salon Top Emploi
DTSTART: 20210930T070000
DTEND: 20210930T150000
DESCRIPTION: En 2021, Top emploi s’adapte et propose deux salons en un&nbsp;!!!

Le salon des jeunes 18-25 ans revient cette année et vous propose deux formats :

-&nbsp;&nbsp;&nbsp;&nbsp;&nbsp;&nbsp;&nbsp;&nbsp;&nbsp;&nbsp;En présentiel le jeudi 30 septembre de 10h à 17h

-&nbsp;&nbsp;&nbsp;&nbsp;&nbsp;&nbsp;&nbsp;&nbsp;&nbsp;&nbsp;En ligne grâce à notre site internet et/ou un QR Code les 1,2 et 3 octobre 2021

Le salon Top Emploi est spécialement dédié aux jeunes de 16 à 25 ans. Il a pour but de mettre en relation les jeunes en recherche d’emploi avec les entreprises qui recrutent dans le bassin Chalonnais.

&nbsp;
END:VEVENT
END:VCALENDAR
