BEGIN:VCALENDAR
VERSION:2.0
METHOD:PUBLISH
X-WR-CALNAME;VALUE=TEXT:Agenda #3841
PRODID:-//Drupal iCal API//EN
BEGIN:VEVENT
SUMMARY:  Webinaire dédié au Transport Sanitaire : Prévention de la santé de vos salariés
DTSTART: 20210928T073000
DTEND: 20210928T083000
DESCRIPTION: La CARSAT&nbsp;a développé, en collaboration avec les partenaires de la branche dont l'AFT,&nbsp;des&nbsp;nouveaux outils gratuits dédiés au Transport Sanitaire qui&nbsp;visent à améliorer et protéger votre santé ainsi que celle de vos salariés.
END:VEVENT
END:VCALENDAR
